BEGIN:VCALENDAR
VERSION:2.0
PRODID:-//ChamberMaster//Event Calendar 2.0//EN
METHOD:PUBLISH
X-PUBLISHED-TTL:P1H
REFRESH-INTERVAL:P1H
CALSCALE:GREGORIAN
BEGIN:VTIMEZONE
TZID:America/Chicago
BEGIN:DAYLIGHT
RRULE:FREQ=YEARLY;BYMONTH=3;BYDAY=2SU
DTSTART:20070101T000000
TZOFFSETFROM:-0600
TZOFFSETTO:-0500
TZNAME:Central Daylight Time
END:DAYLIGHT
BEGIN:STANDARD
RRULE:FREQ=YEARLY;BYMONTH=11;BYDAY=1SU
DTSTART:20070101T000000
TZOFFSETFROM:-0500
TZOFFSETTO:-0600
TZNAME:Central Standard Time
END:STANDARD
END:VTIMEZONE
BEGIN:VEVENT
DTSTART;TZID=America/Chicago:20230728T090000
DTEND;TZID=America/Chicago:20230728T120000
X-MICROSOFT-CDO-ALLDAYEVENT:FALSE
SUMMARY:NAR Code of Ethics
DESCRIPTION:Under all is the land.. So starts the NAR Code of Ethics. It continues: Realtors \, therefore\, are zealous to maintain and improve the standards of their calling and share with their fellow Realtors  a common responsibility for its integrity and honor. In recognition and appreciation of their obligations to clients\, customers\, the public\, and each other\, Realtors  continuously strive to become and remain informed on issues affecting real estate and\, as knowledgeable professionals\, they willingly share the fruit of their experience and study with others.Instructor: Cindy LottCorse# 440023 CE Hours
X-ALT-DESC;FMTTYPE=text/html:<!DOCTYPE html><html><head><title></title></head><body aria-disabled="false"><p>Under all is the land.. So starts the NAR Code of Ethics. It continues: Realtors&reg\;\, therefore\, are zealous to maintain and improve the standards of their calling and share with their fellow Realtors&reg\; a common responsibility for its integrity and honor. In recognition and appreciation of their obligations to clients\, customers\, the public\, and each other\, Realtors&reg\; continuously strive to become and remain informed on issues affecting real estate and\, as knowledgeable professionals\, they willingly share the fruit of their experience and study with others.</p><p>Instructor: Cindy Lott</p><p>Corse# 44002</p><p>3 CE Hours</p></body></html>
LOCATION:
UID:e.3329.824926
SEQUENCE:3
DTSTAMP:20260420T161933Z
URL:https://members.glar.com/education-calendar/Details/nar-code-of-ethics-912217?sourceTypeId=Hub
END:VEVENT
END:VCALENDAR
