BEGIN:VCALENDAR
VERSION:2.0
PRODID:-//ChamberMaster//Event Calendar 2.0//EN
METHOD:PUBLISH
X-PUBLISHED-TTL:P1H
REFRESH-INTERVAL:P1H
CALSCALE:GREGORIAN
BEGIN:VTIMEZONE
TZID:America/Chicago
BEGIN:DAYLIGHT
RRULE:FREQ=YEARLY;BYMONTH=3;BYDAY=2SU
DTSTART:20070101T000000
TZOFFSETFROM:-0600
TZOFFSETTO:-0500
TZNAME:Central Daylight Time
END:DAYLIGHT
BEGIN:STANDARD
RRULE:FREQ=YEARLY;BYMONTH=11;BYDAY=1SU
DTSTART:20070101T000000
TZOFFSETFROM:-0500
TZOFFSETTO:-0600
TZNAME:Central Standard Time
END:STANDARD
END:VTIMEZONE
BEGIN:VEVENT
DTSTART;TZID=America/Chicago:20251010T083000
DTEND;TZID=America/Chicago:20251010T123000
X-MICROSOFT-CDO-ALLDAYEVENT:FALSE
SUMMARY:TREC Legal l
DESCRIPTION:Instructor Lesly Rascoe Course#47600 Provider# 001 4 CE Hours Did you know that as a license holder\, you have legal requirements and regulations for engaging in the real estate business? Perhaps you also belong to a trade association connected to the real estate business that has a code of conduct and you see that as a requirement for engaging in the business. There is more to your requirements than a trade associa tion expectations. It is every license holder's responsibility to know and operate under the current laws applicable to their license. The course covers the requirements Texas law places upon all license holders regard ing ethical conduct when facilitating a real estate transaction.FULL REFUND if written cancellation request is received 2 business days before the start of the course. No refunds thereafter. Full refund if course is cancelled by GLAR.
X-ALT-DESC;FMTTYPE=text/html:<!DOCTYPE html><html><head><title></title></head><body aria-disabled="false"><p>Instructor Lesly Rascoe Course#47600 Provider# 001 4 CE Hours&nbsp\;</p><p>Did you know that as a license holder\, you have legal requirements and regulations for engaging in the real estate business? Perhaps you also belong to a trade association connected to the real estate business that has a code of conduct and you see that as a requirement for engaging in the business. There is more to your requirements than a trade associa&shy\;tion expectations. It is every license holder&rsquo\;s responsibility to know and operate under the current laws applicable to their license. The course covers the requirements Texas law places upon all license holders regard&shy\;ing ethical conduct when facilitating a real estate transaction.</p><p><span style="color: rgb(54\, 54\, 54)\; font-family: Barlow\, sans-serif\; font-size: 16px\; font-style: normal\; font-variant-ligatures: normal\; font-variant-caps: normal\; font-weight: 400\; letter-spacing: normal\; orphans: 2\; text-align: left\; text-indent: 0px\; text-transform: none\; widows: 2\; word-spacing: 0px\; -webkit-text-stroke-width: 0px\; white-space: normal\; background-color: rgb(224\, 226\, 231)\; text-decoration-thickness: initial\; text-decoration-style: initial\; text-decoration-color: initial\; display: inline !important\; float: none\;">FULL REFUND if written cancellation request is received 2 business days before the start of the course. No refunds thereafter. Full refund if course is cancelled by GLAR.</span></p></body></html>
LOCATION:
UID:e.3329.1260214
SEQUENCE:3
DTSTAMP:20260421T102822Z
URL:https://members.glar.com/education-calendar/Details/trec-legal-l-1474936?sourceTypeId=Hub
END:VEVENT
END:VCALENDAR
